BEGIN:VCALENDAR
VERSION:2.0
PRODID:-//Intand Corporation//Tandem//EN
METHOD:PUBLISH
BEGIN:VEVENT
DTSTAMP:20260419T144252Z
DTSTART;VALUE=DATE:20260413
DTEND;VALUE=DATE:20260414
TRANSP:TRANSPARENT
PRIORITY:0
SUMMARY:B Day
LOCATION:Calendar Day
DESCRIPTION:Location:\nCalendar Day\n\n
URL;VALUE=URI:https://copperhillshigh.tandem.co/index.php?type=view&action
 =event&id=44418
CREATED:20250708T151915Z
LAST-MODIFIED:20250708T151915Z
UID:event-44418-copperhillshigh@intand.com
END:VEVENT
END:VCALENDAR
