BEGIN:VCALENDAR
VERSION:2.0
PRODID:-//Intand Corporation//Tandem//EN
METHOD:PUBLISH
BEGIN:VEVENT
DTSTAMP:20260419T144327Z
DTSTART:20260411T133000Z
DTEND:20260411T180000Z
TRANSP:TRANSPARENT
PRIORITY:0
SUMMARY:Practice Math AP Tests
LOCATION:Copper Hills High School > Tech Atrium
DESCRIPTION:Location:\nCopper Hills High School > Tech Atrium\n\n
URL;VALUE=URI:https://copperhillshigh.tandem.co/index.php?type=view&action
 =event&id=45118
CREATED:20250813T171707Z
LAST-MODIFIED:20250813T191005Z
UID:event_request-45118-copperhillshigh@intand.com
END:VEVENT
END:VCALENDAR
