BEGIN:VCALENDAR
VERSION:2.0
PRODID:-//Intand Corporation//Tandem//EN
METHOD:PUBLISH
BEGIN:VEVENT
DTSTAMP:20260419T143556Z
DTSTART:20260410T213000Z
DTEND:20260411T003000Z
TRANSP:TRANSPARENT
PRIORITY:0
SUMMARY:Boys Soccer vs Herriman (CC)
LOCATION:Copper Hills High School > Stadium/Track
DESCRIPTION:Home game Boys' soccer vs Herriman at CHHS\n\nVarsity at 3:30p
 m\n\nJV at 5:15pm\n\n \n\n\nSetup: 2:30 pm\nBreakdown: 7:00 pm\n\nLocation
 :\nCopper Hills High School > Stadium/Track\n\n
X-ALT-DESC;FMTTYPE=text/html:<!doctype html><html><body>Home game Boys' so
 ccer vs Herriman at CHHS</p><p>Varsity at 3:30pm</p><p>JV at 5:15pm</p><p>
  <br /><br />Setup: 2:30 pm<br />Breakdown: 7:00 pm<br /><br />Location:<b
 r />Copper Hills High School > Stadium/Track<br /></body></html>
URL;VALUE=URI:https://copperhillshigh.tandem.co/index.php?type=view&action
 =event&id=45186
CREATED:20250818T011723Z
LAST-MODIFIED:20260407T165104Z
UID:event_request-45186-copperhillshigh@intand.com
END:VEVENT
END:VCALENDAR
