BEGIN:VCALENDAR
VERSION:2.0
PRODID:-//Intand Corporation//Tandem//EN
METHOD:PUBLISH
BEGIN:VEVENT
DTSTAMP:20260419T174535Z
DTSTART:20260506T010000Z
DTEND:20260506T023000Z
TRANSP:TRANSPARENT
PRIORITY:0
SUMMARY:Girls Lacrosse vs Bingham (Senior Night) (MT)
LOCATION:Copper Hills High School > Stadium/Track
DESCRIPTION:Senior night after the varsity game\n\n\nSetup: 4:45 pm\nBreak
 down: 9:00 pm\n\nLocation:\nCopper Hills High School > Stadium/Track\n\n
URL;VALUE=URI:https://copperhillshigh.tandem.co/index.php?type=view&action
 =event&id=45342
CREATED:20250820T205358Z
LAST-MODIFIED:20260413T194937Z
UID:event_request-45342-copperhillshigh@intand.com
END:VEVENT
END:VCALENDAR
