BEGIN:VCALENDAR
VERSION:2.0
PRODID:-//Intand Corporation//Tandem//EN
METHOD:PUBLISH
BEGIN:VEVENT
DTSTAMP:20260419T174643Z
DTSTART:20260510T000000Z
DTEND:20260510T030000Z
TRANSP:TRANSPARENT
PRIORITY:0
SUMMARY:Spring Swing Dance
LOCATION:Copper Hills High School > Main Gym\, Copper Hills High School > 
 Auxiliary Gym
DESCRIPTION:Dinner will be from 6-7 in the aux gym.\n\nDance is in the mai
 n gym from 7-9.\n\n\nSetup: 10:00 am\nBreakdown: 11:00 pm\n\nLocations:\nC
 opper Hills High School > Main Gym\nCopper Hills High School > Auxiliary G
 ym\n\nRound tables\n\n
X-ALT-DESC;FMTTYPE=text/html:<!doctype html><html><body>Dinner will be fro
 m 6-7 in the aux gym.</p><p>Dance is in the main gym from 7-9.<br /><br />
 Setup: 10:00 am<br />Breakdown: 11:00 pm<br /><br />Locations:<br />Copper
  Hills High School > Main Gym<br />Copper Hills High School > Auxiliary Gy
 m<br /><br />Notes:<br />Round tables<br /></body></html>
URL;VALUE=URI:https://copperhillshigh.tandem.co/index.php?type=view&action
 =event&id=45559
CREATED:20250825T184719Z
LAST-MODIFIED:20260415T140222Z
UID:event_request-45559-copperhillshigh@intand.com
END:VEVENT
END:VCALENDAR
