BEGIN:VCALENDAR
VERSION:2.0
PRODID:-//Intand Corporation//Tandem//EN
METHOD:PUBLISH
BEGIN:VEVENT
DTSTAMP:20260419T174614Z
DTSTART:20260428T003000Z
DTEND:20260428T020000Z
TRANSP:TRANSPARENT
PRIORITY:0
SUMMARY:Boys Volleyball vs Westlake (Senior Night) (MT)
LOCATION:Copper Hills High School > Main Gym
DESCRIPTION:Setup: 3:00 pm\nBreakdown: 9:00 pm\n\nLocation:\nCopper Hills 
 High School > Main Gym\n\n
URL;VALUE=URI:https://copperhillshigh.tandem.co/index.php?type=view&action
 =event&id=47797
CREATED:20251117T231644Z
LAST-MODIFIED:20260407T171157Z
UID:event-47797-copperhillshigh@intand.com
END:VEVENT
END:VCALENDAR
