BEGIN:VCALENDAR
VERSION:2.0
PRODID:-//Intand Corporation//Tandem//EN
METHOD:PUBLISH
BEGIN:VEVENT
DTSTAMP:20260419T174645Z
DTSTART:20260512T150000Z
DTEND:20260512T200000Z
TRANSP:TRANSPARENT
PRIORITY:0
SUMMARY:State Unified Track & Field Meet @ Copper Hills High
LOCATION:Copper Hills High School > Stadium/Track
DESCRIPTION:Location:\nCopper Hills High School > Stadium/Track\n\n
URL;VALUE=URI:https://copperhillshigh.tandem.co/index.php?type=view&action
 =event&id=48708
CREATED:20260123T143249Z
LAST-MODIFIED:20260407T182859Z
UID:event-48708-copperhillshigh@intand.com
END:VEVENT
END:VCALENDAR
