BEGIN:VCALENDAR
VERSION:2.0
PRODID:-//Intand Corporation//Tandem//EN
METHOD:PUBLISH
BEGIN:VEVENT
DTSTAMP:20260419T143135Z
DTSTART:20260415T140000Z
DTEND:20260416T055959Z
TRANSP:TRANSPARENT
PRIORITY:0
SUMMARY:Girls Golf @ Mountain View
LOCATION:Mountain View Golf Course
DESCRIPTION:Breakdown: TBD\n\nReturn: TBD\n\nLocation:\nMountain View Golf
  Course\n\n
URL;VALUE=URI:https://copperhillshigh.tandem.co/index.php?type=view&action
 =event&id=49048
CREATED:20260205T164944Z
LAST-MODIFIED:20260205T164944Z
UID:event-49048-copperhillshigh@intand.com
END:VEVENT
END:VCALENDAR
