BEGIN:VCALENDAR
VERSION:2.0
PRODID:-//Intand Corporation//Tandem//EN
METHOD:PUBLISH
BEGIN:VEVENT
DTSTAMP:20260419T143147Z
DTSTART:20260430T140000Z
DTEND:20260501T055959Z
TRANSP:TRANSPARENT
PRIORITY:0
SUMMARY:Girls Golf @ Lakeside
LOCATION:Lakeside Golf Course
DESCRIPTION:Breakdown: TBD\n\nReturn: TBD\n\nLocation:\nLakeside Golf Cour
 se\n\n
URL;VALUE=URI:https://copperhillshigh.tandem.co/index.php?type=view&action
 =event&id=49053
CREATED:20260205T165327Z
LAST-MODIFIED:20260205T165327Z
UID:event-49053-copperhillshigh@intand.com
END:VEVENT
END:VCALENDAR
