BEGIN:VCALENDAR
VERSION:2.0
PRODID:-//Intand Corporation//Tandem//EN
METHOD:PUBLISH
BEGIN:VEVENT
DTSTAMP:20260419T144305Z
DTSTART:20260422T213000Z
DTEND:20260423T013000Z
TRANSP:TRANSPARENT
PRIORITY:0
SUMMARY:Baseball @ Mountain Ridge (KJ)
LOCATION:Mountain Ridge High School
DESCRIPTION:Location:\nMountain Ridge High School\n\n
URL;VALUE=URI:https://copperhillshigh.tandem.co/index.php?type=view&action
 =event&id=49123
CREATED:20260209T222633Z
LAST-MODIFIED:20260407T170633Z
UID:event-49123-copperhillshigh@intand.com
END:VEVENT
END:VCALENDAR
