BEGIN:VCALENDAR
VERSION:2.0
PRODID:-//Intand Corporation//Tandem//EN
METHOD:PUBLISH
BEGIN:VEVENT
DTSTAMP:20260419T174752Z
DTSTART:20260429T213000Z
DTEND:20260430T013000Z
TRANSP:TRANSPARENT
PRIORITY:0
SUMMARY:Baseball @ Riverton (NI)
LOCATION:Riverton High School
DESCRIPTION:Location:\nRiverton High School\n\n
URL;VALUE=URI:https://copperhillshigh.tandem.co/index.php?type=view&action
 =event&id=49126
CREATED:20260209T222924Z
LAST-MODIFIED:20260407T171556Z
UID:event-49126-copperhillshigh@intand.com
END:VEVENT
END:VCALENDAR
