BEGIN:VCALENDAR
VERSION:2.0
PRODID:-//Intand Corporation//Tandem//EN
METHOD:PUBLISH
BEGIN:VEVENT
DTSTAMP:20260419T174535Z
DTSTART;VALUE=DATE:20260509
DTEND;VALUE=DATE:20260510
TRANSP:TRANSPARENT
PRIORITY:0
SUMMARY:Baseball State Regionals @ Home Sites (JM)
LOCATION:Copper Hills High School > Baseball Field
DESCRIPTION:Location:\nCopper Hills High School > Baseball Field\n\n
URL;VALUE=URI:https://copperhillshigh.tandem.co/index.php?type=view&action
 =event&id=49129
CREATED:20260209T223137Z
LAST-MODIFIED:20260407T173113Z
UID:event-49129-copperhillshigh@intand.com
END:VEVENT
END:VCALENDAR
