BEGIN:VCALENDAR
VERSION:2.0
PRODID:-//Intand Corporation//Tandem//EN
METHOD:PUBLISH
BEGIN:VEVENT
DTSTAMP:20260419T174614Z
DTSTART:20260514T210000Z
DTEND:20260515T040000Z
TRANSP:TRANSPARENT
PRIORITY:0
SUMMARY:Boys and Girls Lacrosse State Second Round @ Home Sites
LOCATION:Copper Hills High School > Stadium/Track
DESCRIPTION:Location:\nCopper Hills High School > Stadium/Track\n\n
URL;VALUE=URI:https://copperhillshigh.tandem.co/index.php?type=view&action
 =event&id=49151
CREATED:20260209T230742Z
LAST-MODIFIED:20260212T164419Z
UID:event-49151-copperhillshigh@intand.com
END:VEVENT
END:VCALENDAR
