BEGIN:VCALENDAR
VERSION:2.0
PRODID:-//Intand Corporation//Tandem//EN
METHOD:PUBLISH
BEGIN:VEVENT
DTSTAMP:20260419T143147Z
DTSTART:20260430T213000Z
DTEND:20260501T003000Z
TRANSP:TRANSPARENT
PRIORITY:0
SUMMARY:Softball @ Westlake (JM)
LOCATION:Westlake High School
DESCRIPTION:Location:\nWestlake High School\n\n
URL;VALUE=URI:https://copperhillshigh.tandem.co/index.php?type=view&action
 =event&id=49216
CREATED:20260212T210430Z
LAST-MODIFIED:20260407T171709Z
UID:event-49216-copperhillshigh@intand.com
END:VEVENT
END:VCALENDAR
