BEGIN:VCALENDAR
VERSION:2.0
PRODID:-//Intand Corporation//Tandem//EN
METHOD:PUBLISH
BEGIN:VEVENT
DTSTAMP:20260419T174644Z
DTSTART;VALUE=DATE:20260508
DTEND;VALUE=DATE:20260509
TRANSP:TRANSPARENT
PRIORITY:0
SUMMARY:Boys Soccer State Tournament - First Round @ Home Sites (CC)
LOCATION:Copper Hills High School > Soccer Field
DESCRIPTION:Location:\nCopper Hills High School > Soccer Field\n\n
URL;VALUE=URI:https://copperhillshigh.tandem.co/index.php?type=view&action
 =event&id=49242
CREATED:20260213T011945Z
LAST-MODIFIED:20260407T173013Z
UID:event-49242-copperhillshigh@intand.com
END:VEVENT
END:VCALENDAR
