BEGIN:VCALENDAR
VERSION:2.0
PRODID:-//Intand Corporation//Tandem//EN
METHOD:PUBLISH
BEGIN:VEVENT
DTSTAMP:20260419T143556Z
DTSTART:20260404T170000Z
DTEND:20260404T210000Z
TRANSP:TRANSPARENT
PRIORITY:0
SUMMARY:JV Baseball @ Cedar Valley
LOCATION:Cedar Valley High School
DESCRIPTION:Location:\nCedar Valley High School\n\n
URL;VALUE=URI:https://copperhillshigh.tandem.co/index.php?type=view&action
 =event&id=49394
CREATED:20260224T170409Z
LAST-MODIFIED:20260224T170409Z
UID:event-49394-copperhillshigh@intand.com
END:VEVENT
END:VCALENDAR
