BEGIN:VCALENDAR
VERSION:2.0
PRODID:-//Intand Corporation//Tandem//EN
METHOD:PUBLISH
BEGIN:VEVENT
DTSTAMP:20260419T174137Z
DTSTART:20260728T150000Z
DTEND:20260728T230000Z
TRANSP:TRANSPARENT
PRIORITY:0
SUMMARY:Fall Guard Camp
LOCATION:Copper Hills High School > Auxiliary Gym
DESCRIPTION:Location:\nCopper Hills High School > Auxiliary Gym\n\n
URL;VALUE=URI:https://copperhillshigh.tandem.co/index.php?type=view&action
 =event&id=49748
CREATED:20260305T180043Z
LAST-MODIFIED:20260311T193102Z
UID:event_request-49748-copperhillshigh@intand.com
END:VEVENT
END:VCALENDAR
