BEGIN:VCALENDAR
VERSION:2.0
PRODID:-//Intand Corporation//Tandem//EN
METHOD:PUBLISH
BEGIN:VEVENT
DTSTAMP:20260419T143208Z
DTSTART:20260425T130000Z
DTEND:20260425T200000Z
TRANSP:TRANSPARENT
PRIORITY:0
SUMMARY:Fusion Cheer Showcase (Rental)
LOCATION:Copper Hills High School > Main Gym
DESCRIPTION:Location:\nCopper Hills High School > Main Gym\n\n
URL;VALUE=URI:https://copperhillshigh.tandem.co/index.php?type=view&action
 =event&id=49821
CREATED:20260312T163105Z
LAST-MODIFIED:20260312T163105Z
UID:event-49821-copperhillshigh@intand.com
END:VEVENT
END:VCALENDAR
